BEGIN:VCALENDAR
VERSION:2.0
PRODID:-//The Food Geeks - ECPv6.15.20//NONSGML v1.0//EN
CALSCALE:GREGORIAN
METHOD:PUBLISH
X-WR-CALNAME:The Food Geeks
X-ORIGINAL-URL:https://thefoodgeeks.net
X-WR-CALDESC:Events for The Food Geeks
REFRESH-INTERVAL;VALUE=DURATION:PT1H
X-Robots-Tag:noindex
X-PUBLISHED-TTL:PT1H
BEGIN:VTIMEZONE
TZID:America/New_York
BEGIN:DAYLIGHT
TZOFFSETFROM:-0500
TZOFFSETTO:-0400
TZNAME:EDT
DTSTART:20230312T070000
END:DAYLIGHT
BEGIN:STANDARD
TZOFFSETFROM:-0400
TZOFFSETTO:-0500
TZNAME:EST
DTSTART:20231105T060000
END:STANDARD
BEGIN:DAYLIGHT
TZOFFSETFROM:-0500
TZOFFSETTO:-0400
TZNAME:EDT
DTSTART:20240310T070000
END:DAYLIGHT
BEGIN:STANDARD
TZOFFSETFROM:-0400
TZOFFSETTO:-0500
TZNAME:EST
DTSTART:20241103T060000
END:STANDARD
BEGIN:DAYLIGHT
TZOFFSETFROM:-0500
TZOFFSETTO:-0400
TZNAME:EDT
DTSTART:20250309T070000
END:DAYLIGHT
BEGIN:STANDARD
TZOFFSETFROM:-0400
TZOFFSETTO:-0500
TZNAME:EST
DTSTART:20251102T060000
END:STANDARD
END:VTIMEZONE
BEGIN:VEVENT
DTSTART;TZID=America/New_York:20240915T120000
DTEND;TZID=America/New_York:20240915T150000
DTSTAMP:20260423T130645
CREATED:20240809T200536Z
LAST-MODIFIED:20240809T200843Z
UID:5944-1726401600-1726412400@thefoodgeeks.net
SUMMARY:Food Geeks Sunday Brunch @ Table25 Fork + Wine
DESCRIPTION:Food Geeks Sunday Brunch @\nTable25 Fork + Wine \nJoin us for a delicious Food Geeks Sunday Brunch at Table25 Fork + Wine – where foodies unite over great food and wine! \nRegister Here
URL:https://thefoodgeeks.net/event/food-geeks-sunday-brunch-table25-fork-wine/
LOCATION:Table25 Fork + Wine\, 7475 Douglas Boulevard Suite 112\, Douglasville\, GA\, 30135\, United States
CATEGORIES:Food Geeks Day Party
ATTACH;FMTTYPE=image/png:https://thefoodgeeks.net/wp-content/uploads/2024/08/Foo_20240808_133502_0000.png
ORGANIZER;CN="The Food Geeks ATL":MAILTO:info@thefoodgeeks.net
END:VEVENT
BEGIN:VEVENT
DTSTART;TZID=America/New_York:20240727T160000
DTEND;TZID=America/New_York:20240727T200000
DTSTAMP:20260423T130645
CREATED:20240701T182146Z
LAST-MODIFIED:20240806T180040Z
UID:5757-1722096000-1722110400@thefoodgeeks.net
SUMMARY:The Food Geeks Day Party at Twisted Pye
DESCRIPTION:Summer Day Party at Twisted Pye \nWelcome to the Food Geeks Day Party! Join us at Twisted Pye Kitchen & Cocktails for a day filled with delicious food and geeky fun. Indulge in a variety of mouthwatering dishes and refreshing cocktails while mingling with fellow food enthusiasts. \nRegister Here
URL:https://thefoodgeeks.net/event/the-food-geeks-day-party-at-twisted-pye/
LOCATION:Twisted Pye\, 1851 Market Street Ste. 100\, Douglasville\, GA\, 30135\, United States
CATEGORIES:Food Geeks Day Party
ATTACH;FMTTYPE=image/jpeg:https://thefoodgeeks.net/wp-content/uploads/2024/07/IMG_20240629_115901.jpg
ORGANIZER;CN="The Food Geeks ATL":MAILTO:info@thefoodgeeks.net
END:VEVENT
BEGIN:VEVENT
DTSTART;TZID=America/New_York:20240622T160000
DTEND;TZID=America/New_York:20240622T200000
DTSTAMP:20260423T130645
CREATED:20240521T195117Z
LAST-MODIFIED:20240607T203519Z
UID:5191-1719072000-1719086400@thefoodgeeks.net
SUMMARY:Welcome to the Summer Day Party featuring DJ Mike Webster
DESCRIPTION:Summer Day Party at Gocha’s \nWelcome to the Summer Day Party at Gocha’s featuring DJ Mike Webster \nRegister Here
URL:https://thefoodgeeks.net/event/welcome-to-the-summer-day-party-featuring-dj-webb/
LOCATION:Gocha’s Tapas Bar\, 5829 Campbellton Road SW\, Suite 116\, Atlanta\, GA\, 30331
CATEGORIES:Food Geeks Day Party
ATTACH;FMTTYPE=image/png:https://thefoodgeeks.net/wp-content/uploads/2024/05/Gochas1.png
ORGANIZER;CN="The Food Geeks ATL":MAILTO:info@thefoodgeeks.net
END:VEVENT
END:VCALENDAR