BEGIN:VCALENDAR
VERSION:2.0
PRODID:-//The Food Geeks - ECPv6.15.20//NONSGML v1.0//EN
CALSCALE:GREGORIAN
METHOD:PUBLISH
X-ORIGINAL-URL:https://thefoodgeeks.net
X-WR-CALDESC:Events for The Food Geeks
REFRESH-INTERVAL;VALUE=DURATION:PT1H
X-Robots-Tag:noindex
X-PUBLISHED-TTL:PT1H
BEGIN:VTIMEZONE
TZID:America/New_York
BEGIN:DAYLIGHT
TZOFFSETFROM:-0500
TZOFFSETTO:-0400
TZNAME:EDT
DTSTART:20240310T070000
END:DAYLIGHT
BEGIN:STANDARD
TZOFFSETFROM:-0400
TZOFFSETTO:-0500
TZNAME:EST
DTSTART:20241103T060000
END:STANDARD
BEGIN:DAYLIGHT
TZOFFSETFROM:-0500
TZOFFSETTO:-0400
TZNAME:EDT
DTSTART:20250309T070000
END:DAYLIGHT
BEGIN:STANDARD
TZOFFSETFROM:-0400
TZOFFSETTO:-0500
TZNAME:EST
DTSTART:20251102T060000
END:STANDARD
BEGIN:DAYLIGHT
TZOFFSETFROM:-0500
TZOFFSETTO:-0400
TZNAME:EDT
DTSTART:20260308T070000
END:DAYLIGHT
BEGIN:STANDARD
TZOFFSETFROM:-0400
TZOFFSETTO:-0500
TZNAME:EST
DTSTART:20261101T060000
END:STANDARD
END:VTIMEZONE
BEGIN:VEVENT
DTSTART;TZID=America/New_York:20250207T183000
DTEND;TZID=America/New_York:20250207T210000
DTSTAMP:20260424T122943
CREATED:20250102T224118Z
LAST-MODIFIED:20250102T224635Z
UID:6627-1738953000-1738962000@thefoodgeeks.net
SUMMARY:Food Geeks Friday at Natalie Bianca
DESCRIPTION:Food Geeks Friday at Natalie Bianca \nJoin us for a fun Food Geeks Friday at Natalie Bianca\, where we’ll Dine and Vibe over delicious food and drinks! \nRegister Here
URL:https://thefoodgeeks.net/event/food-geeks-friday-at-natalie-bianca/
LOCATION:Natalie Bianca\, 2317 Cascade Road\, Atlanta\, GA\, 30311\, United States
CATEGORIES:Food Geeks Fridays
ATTACH;FMTTYPE=image/png:https://thefoodgeeks.net/wp-content/uploads/2025/01/NATALIE-BIANCA-2.png
ORGANIZER;CN="The Food Geeks ATL":MAILTO:info@thefoodgeeks.net
END:VEVENT
END:VCALENDAR