BEGIN:VCALENDAR
VERSION:2.0
PRODID:-//The Food Geeks - ECPv6.15.20//NONSGML v1.0//EN
CALSCALE:GREGORIAN
METHOD:PUBLISH
X-ORIGINAL-URL:https://thefoodgeeks.net
X-WR-CALDESC:Events for The Food Geeks
REFRESH-INTERVAL;VALUE=DURATION:PT1H
X-Robots-Tag:noindex
X-PUBLISHED-TTL:PT1H
BEGIN:VTIMEZONE
TZID:America/New_York
BEGIN:DAYLIGHT
TZOFFSETFROM:-0500
TZOFFSETTO:-0400
TZNAME:EDT
DTSTART:20240310T070000
END:DAYLIGHT
BEGIN:STANDARD
TZOFFSETFROM:-0400
TZOFFSETTO:-0500
TZNAME:EST
DTSTART:20241103T060000
END:STANDARD
BEGIN:DAYLIGHT
TZOFFSETFROM:-0500
TZOFFSETTO:-0400
TZNAME:EDT
DTSTART:20250309T070000
END:DAYLIGHT
BEGIN:STANDARD
TZOFFSETFROM:-0400
TZOFFSETTO:-0500
TZNAME:EST
DTSTART:20251102T060000
END:STANDARD
BEGIN:DAYLIGHT
TZOFFSETFROM:-0500
TZOFFSETTO:-0400
TZNAME:EDT
DTSTART:20260308T070000
END:DAYLIGHT
BEGIN:STANDARD
TZOFFSETFROM:-0400
TZOFFSETTO:-0500
TZNAME:EST
DTSTART:20261101T060000
END:STANDARD
END:VTIMEZONE
BEGIN:VEVENT
DTSTART;TZID=America/New_York:20251107T184500
DTEND;TZID=America/New_York:20251107T210000
DTSTAMP:20260423T210443
CREATED:20251025T121525Z
LAST-MODIFIED:20251025T121525Z
UID:6738-1762541100-1762549200@thefoodgeeks.net
SUMMARY:Revival Wine: Wine Tasting
DESCRIPTION:Join us for a Food Geeks Friday wine tasting. We will sample 4 amazing wines. \nThe $38 fee pp also includes LIGHT snacks: \nCurry chicken salad\, cheese\, crackers and fruit. (Not a meal) \n* This will not be our traditional dine and vibe experience* \nPlease be sure to register via Eventbrite. Space is limited to 20 people. \nMake your payment via cashapp to $TheFoodGeeks\n*put your name in the notes field* \n\n\n\nWe look forward to sipping it up with you 
URL:https://thefoodgeeks.net/event/revival-wine-wine-tasting/
LOCATION:Revival Wines\, 140 W. Lanier Ave\, Fayetteville\, GA\, 30214\, United States
CATEGORIES:Food Geeks Fridays
ATTACH;FMTTYPE=image/png:https://thefoodgeeks.net/wp-content/uploads/2025/10/7309299583168060298-e1761394448135.png
ORGANIZER;CN="The Food Geeks ATL":MAILTO:info@thefoodgeeks.net
END:VEVENT
END:VCALENDAR