BEGIN:VCALENDAR
VERSION:2.0
PRODID:-//The Food Geeks - ECPv6.15.20//NONSGML v1.0//EN
CALSCALE:GREGORIAN
METHOD:PUBLISH
X-ORIGINAL-URL:https://thefoodgeeks.net
X-WR-CALDESC:Events for The Food Geeks
REFRESH-INTERVAL;VALUE=DURATION:PT1H
X-Robots-Tag:noindex
X-PUBLISHED-TTL:PT1H
BEGIN:VTIMEZONE
TZID:America/New_York
BEGIN:DAYLIGHT
TZOFFSETFROM:-0500
TZOFFSETTO:-0400
TZNAME:EDT
DTSTART:20230312T070000
END:DAYLIGHT
BEGIN:STANDARD
TZOFFSETFROM:-0400
TZOFFSETTO:-0500
TZNAME:EST
DTSTART:20231105T060000
END:STANDARD
BEGIN:DAYLIGHT
TZOFFSETFROM:-0500
TZOFFSETTO:-0400
TZNAME:EDT
DTSTART:20240310T070000
END:DAYLIGHT
BEGIN:STANDARD
TZOFFSETFROM:-0400
TZOFFSETTO:-0500
TZNAME:EST
DTSTART:20241103T060000
END:STANDARD
BEGIN:DAYLIGHT
TZOFFSETFROM:-0500
TZOFFSETTO:-0400
TZNAME:EDT
DTSTART:20250309T070000
END:DAYLIGHT
BEGIN:STANDARD
TZOFFSETFROM:-0400
TZOFFSETTO:-0500
TZNAME:EST
DTSTART:20251102T060000
END:STANDARD
END:VTIMEZONE
BEGIN:VEVENT
DTSTART;TZID=America/New_York:20240927T183000
DTEND;TZID=America/New_York:20240927T213000
DTSTAMP:20260423T143351
CREATED:20240610T223658Z
LAST-MODIFIED:20240721T040019Z
UID:5716-1727461800-1727472600@thefoodgeeks.net
SUMMARY:Food Geeks Friday at Divan Restaurant & Bar
DESCRIPTION:Food Geeks Friday at\nDivan Restaurant & Bar \nCome join us for a fun evening at Divan Restaurant & Bar! Our Food Geeks Friday event will tantalize your taste buds with innovative dishes and exciting flavors. Located at 87 15th Street NE Atlanta\, GA 30309 this in-person event is perfect for foodies looking to explore new culinary experiences. Don’t miss out on this opportunity to indulge in a night of food\, music\, fellowship\, and fun! Mark your calendars and get ready to Dine and Vibe with The Food Geeks! \nRegister Here
URL:https://thefoodgeeks.net/event/food-geeks-friday-divan-restaurant-bar/
LOCATION:Divan Restaurant & Bar\, 87 15th Street Northeast\, Atlanta\, GA\, 30309
CATEGORIES:Food Geeks Fridays
ATTACH;FMTTYPE=image/jpeg:https://thefoodgeeks.net/wp-content/uploads/2024/06/Divan.jpg
ORGANIZER;CN="The Food Geeks ATL":MAILTO:info@thefoodgeeks.net
END:VEVENT
BEGIN:VEVENT
DTSTART;TZID=America/New_York:20240830T183000
DTEND;TZID=America/New_York:20240830T213000
DTSTAMP:20260423T143351
CREATED:20240610T223922Z
LAST-MODIFIED:20240809T063237Z
UID:5720-1725042600-1725053400@thefoodgeeks.net
SUMMARY:Food Geeks Friday at Nouveau - Broad Street
DESCRIPTION:Food Geeks Friday at\nNouveau – Broad Street \nCome join us for an evening at Nouveau! Our Food Geeks Friday event will tantalize your taste buds with innovative dishes and exciting flavors. Located at 103 W Mill St\, this in-person event is perfect for foodies looking to explore new culinary experiences. Don’t miss out on this opportunity to indulge in a night of food\, music\, fellowship\, and fun! Mark your calendars and get ready to Dine and Vibe with The Food Geeks! \nRegister Here
URL:https://thefoodgeeks.net/event/food-geeks-friday-nouveau-at-broad-street/
LOCATION:Nouveau – Broad Street\, 103 W Mill St 103 West Mill Street\, Jonesboro\, GA\, 30236
CATEGORIES:Food Geeks Fridays
ATTACH;FMTTYPE=image/jpeg:https://thefoodgeeks.net/wp-content/uploads/2024/06/Nouveau.jpg
ORGANIZER;CN="The Food Geeks ATL":MAILTO:info@thefoodgeeks.net
END:VEVENT
BEGIN:VEVENT
DTSTART;TZID=America/New_York:20240628T183000
DTEND;TZID=America/New_York:20240628T213000
DTSTAMP:20260423T143351
CREATED:20240520T223257Z
LAST-MODIFIED:20240607T210025Z
UID:5161-1719599400-1719610200@thefoodgeeks.net
SUMMARY:Roc South Cuisine
DESCRIPTION:Food Geeks Friday – Roc South Cuisine \nRoc South Cuisine\n3009 Buford Hwy NE\nBrookhaven\, GA 30329 \nTime: 6:30 pm – 9:30 pm \nRegister Here
URL:https://thefoodgeeks.net/event/roc-south-cuisine/
LOCATION:Roc South Cuisine\, 3009 Buford Hwy NE\, Brookhaven\, GA\, 30329
CATEGORIES:Food Geeks Fridays
ATTACH;FMTTYPE=image/png:https://thefoodgeeks.net/wp-content/uploads/2024/05/roc-south-for-events.png
ORGANIZER;CN="The Food Geeks ATL":MAILTO:info@thefoodgeeks.net
END:VEVENT
BEGIN:VEVENT
DTSTART;TZID=America/New_York:20240517T183000
DTEND;TZID=America/New_York:20240517T213000
DTSTAMP:20260423T143351
CREATED:20240430T212938Z
LAST-MODIFIED:20240507T041026Z
UID:4672-1715970600-1715981400@thefoodgeeks.net
SUMMARY:Gocha’s Tapas Bar
DESCRIPTION:
URL:https://thefoodgeeks.net/event/gochas-tapas-bar/
LOCATION:Gocha’s Tapas Bar\, 5829 Campbellton Road SW\, Suite 116\, Atlanta\, GA\, 30331
CATEGORIES:Food Geeks Fridays
ATTACH;FMTTYPE=image/png:https://thefoodgeeks.net/wp-content/uploads/2024/05/Gochas1.png
ORGANIZER;CN="The Food Geeks ATL":MAILTO:info@thefoodgeeks.net
END:VEVENT
BEGIN:VEVENT
DTSTART;TZID=America/New_York:20240426T183000
DTEND;TZID=America/New_York:20240426T213000
DTSTAMP:20260423T143351
CREATED:20240422T142120Z
LAST-MODIFIED:20240520T210646Z
UID:4226-1714156200-1714167000@thefoodgeeks.net
SUMMARY:Truth Breakfast Bar & Grill
DESCRIPTION:  \n  \n  \n 
URL:https://thefoodgeeks.net/event/truth-breakfast-bar-grill/
LOCATION:Truth Breakfast Bar & Grill\, 214 Banks Crossing\, Fayetteville\, GA\, 30214\, United States
CATEGORIES:Food Geeks Fridays
ATTACH;FMTTYPE=image/png:https://thefoodgeeks.net/wp-content/uploads/2024/05/Truth-Logo-for-Events.png
ORGANIZER;CN="The Food Geeks ATL":MAILTO:info@thefoodgeeks.net
END:VEVENT
BEGIN:VEVENT
DTSTART;TZID=America/New_York:20240329T183000
DTEND;TZID=America/New_York:20240329T213000
DTSTAMP:20260423T143351
CREATED:20240422T171215Z
LAST-MODIFIED:20240520T210407Z
UID:4230-1711737000-1711747800@thefoodgeeks.net
SUMMARY:Mulan Asian Cuisine
DESCRIPTION:
URL:https://thefoodgeeks.net/event/mulan-asian-cuisine/
LOCATION:Mulan Asian Cuisine\, 1195 Fairburn Rd SW STE 100\, Atlanta\, GA\, 30331\, United States
CATEGORIES:Food Geeks Fridays
ATTACH;FMTTYPE=image/png:https://thefoodgeeks.net/wp-content/uploads/2024/05/Mulan-3-for-Events.png
ORGANIZER;CN="The Food Geeks ATL":MAILTO:info@thefoodgeeks.net
END:VEVENT
BEGIN:VEVENT
DTSTART;TZID=America/New_York:20240223T180000
DTEND;TZID=America/New_York:20240223T213000
DTSTAMP:20260423T143351
CREATED:20240520T033204Z
LAST-MODIFIED:20240520T212522Z
UID:5142-1708711200-1708723800@thefoodgeeks.net
SUMMARY:Hippin Hops Brewery & Oyster Bar
DESCRIPTION:
URL:https://thefoodgeeks.net/event/hippin-hops-brewery-oyster-bar/
LOCATION:Hippin Hop Brewery\, 1308 Glenwood Ave. SE\, Atlanta\, GA\, 30316\, United States
CATEGORIES:Food Geeks Fridays
ATTACH;FMTTYPE=image/png:https://thefoodgeeks.net/wp-content/uploads/2024/05/Hipping-Hop-Logo-for-Events.png
ORGANIZER;CN="The Food Geeks ATL":MAILTO:info@thefoodgeeks.net
END:VEVENT
BEGIN:VEVENT
DTSTART;TZID=America/New_York:20240126T183000
DTEND;TZID=America/New_York:20240126T213000
DTSTAMP:20260423T143351
CREATED:20240520T212413Z
LAST-MODIFIED:20240520T220314Z
UID:5153-1706293800-1706304600@thefoodgeeks.net
SUMMARY:Slush Restaurant & Bar
DESCRIPTION:
URL:https://thefoodgeeks.net/event/slush-restaurant-bar/
LOCATION:Slush Restaurant & Bar\, 327 Edgewood Avenue\, Atlanta\, GA\, 30313\, United States
CATEGORIES:Food Geeks Fridays
ATTACH;FMTTYPE=image/png:https://thefoodgeeks.net/wp-content/uploads/2024/05/slush4-for-Events.png
ORGANIZER;CN="The Food Geeks ATL":MAILTO:info@thefoodgeeks.net
END:VEVENT
END:VCALENDAR