BEGIN:VCALENDAR
VERSION:2.0
PRODID:-//The Food Geeks - ECPv6.15.20//NONSGML v1.0//EN
CALSCALE:GREGORIAN
METHOD:PUBLISH
X-ORIGINAL-URL:https://thefoodgeeks.net
X-WR-CALDESC:Events for The Food Geeks
REFRESH-INTERVAL;VALUE=DURATION:PT1H
X-Robots-Tag:noindex
X-PUBLISHED-TTL:PT1H
BEGIN:VTIMEZONE
TZID:America/New_York
BEGIN:DAYLIGHT
TZOFFSETFROM:-0500
TZOFFSETTO:-0400
TZNAME:EDT
DTSTART:20230312T070000
END:DAYLIGHT
BEGIN:STANDARD
TZOFFSETFROM:-0400
TZOFFSETTO:-0500
TZNAME:EST
DTSTART:20231105T060000
END:STANDARD
BEGIN:DAYLIGHT
TZOFFSETFROM:-0500
TZOFFSETTO:-0400
TZNAME:EDT
DTSTART:20240310T070000
END:DAYLIGHT
BEGIN:STANDARD
TZOFFSETFROM:-0400
TZOFFSETTO:-0500
TZNAME:EST
DTSTART:20241103T060000
END:STANDARD
BEGIN:DAYLIGHT
TZOFFSETFROM:-0500
TZOFFSETTO:-0400
TZNAME:EDT
DTSTART:20250309T070000
END:DAYLIGHT
BEGIN:STANDARD
TZOFFSETFROM:-0400
TZOFFSETTO:-0500
TZNAME:EST
DTSTART:20251102T060000
END:STANDARD
BEGIN:DAYLIGHT
TZOFFSETFROM:-0500
TZOFFSETTO:-0400
TZNAME:EDT
DTSTART:20260308T070000
END:DAYLIGHT
BEGIN:STANDARD
TZOFFSETFROM:-0400
TZOFFSETTO:-0500
TZNAME:EST
DTSTART:20261101T060000
END:STANDARD
END:VTIMEZONE
BEGIN:VEVENT
DTSTART;TZID=America/New_York:20251206T170000
DTEND;TZID=America/New_York:20251206T190000
DTSTAMP:20260423T130604
CREATED:20251124T142845Z
LAST-MODIFIED:20251124T142845Z
UID:6769-1765040400-1765047600@thefoodgeeks.net
SUMMARY:
DESCRIPTION:Your Content Goes Here
URL:https://thefoodgeeks.net/event/6769/
LOCATION:The Vault Hidden Inside the Bank\, 3120 Donald Lee Hollowell Parkway NW\, Atlanta\, GA\, 30318\, United States
CATEGORIES:Food Geeks Pop-Ups
ATTACH;FMTTYPE=image/png:https://thefoodgeeks.net/wp-content/uploads/2025/11/The-Food-Geeks.png
END:VEVENT
BEGIN:VEVENT
DTSTART;TZID=America/New_York:20240808T190000
DTEND;TZID=America/New_York:20240808T220000
DTSTAMP:20260423T130604
CREATED:20240806T175858Z
LAST-MODIFIED:20240806T180128Z
UID:5896-1723143600-1723154400@thefoodgeeks.net
SUMMARY:The Food Geeks Pop-Up  at Twisted Pye R&B Bingo Thursday
DESCRIPTION:R&B Bingo Thursday at Twisted Pye \nR&B Bingo Thursday at Twisted Pye Kitchen & Cocktails hosted by Thaddeus.  No cover just come hungry and ready to have fun!  Bingo starts at 7 PM – Prizes and Giveaways throughout the night.
URL:https://thefoodgeeks.net/event/the-food-geeks-pop-up-twisted-pye-rb-bingo-thursday/
LOCATION:Twisted Pye\, 1851 Market Street Ste. 100\, Douglasville\, GA\, 30135\, United States
CATEGORIES:Food Geeks Pop-Ups
ATTACH;FMTTYPE=image/jpeg:https://thefoodgeeks.net/wp-content/uploads/2024/08/1000026591.jpg
ORGANIZER;CN="The Food Geeks ATL":MAILTO:info@thefoodgeeks.net
END:VEVENT
END:VCALENDAR