BEGIN:VCALENDAR
VERSION:2.0
PRODID:-//The Food Geeks - ECPv6.15.20//NONSGML v1.0//EN
CALSCALE:GREGORIAN
METHOD:PUBLISH
X-WR-CALNAME:The Food Geeks
X-ORIGINAL-URL:https://thefoodgeeks.net
X-WR-CALDESC:Events for The Food Geeks
REFRESH-INTERVAL;VALUE=DURATION:PT1H
X-Robots-Tag:noindex
X-PUBLISHED-TTL:PT1H
BEGIN:VTIMEZONE
TZID:America/New_York
BEGIN:DAYLIGHT
TZOFFSETFROM:-0500
TZOFFSETTO:-0400
TZNAME:EDT
DTSTART:20230312T070000
END:DAYLIGHT
BEGIN:STANDARD
TZOFFSETFROM:-0400
TZOFFSETTO:-0500
TZNAME:EST
DTSTART:20231105T060000
END:STANDARD
BEGIN:DAYLIGHT
TZOFFSETFROM:-0500
TZOFFSETTO:-0400
TZNAME:EDT
DTSTART:20240310T070000
END:DAYLIGHT
BEGIN:STANDARD
TZOFFSETFROM:-0400
TZOFFSETTO:-0500
TZNAME:EST
DTSTART:20241103T060000
END:STANDARD
BEGIN:DAYLIGHT
TZOFFSETFROM:-0500
TZOFFSETTO:-0400
TZNAME:EDT
DTSTART:20250309T070000
END:DAYLIGHT
BEGIN:STANDARD
TZOFFSETFROM:-0400
TZOFFSETTO:-0500
TZNAME:EST
DTSTART:20251102T060000
END:STANDARD
END:VTIMEZONE
BEGIN:VEVENT
DTSTART;TZID=America/New_York:20240223T180000
DTEND;TZID=America/New_York:20240223T213000
DTSTAMP:20260423T172225
CREATED:20240520T033204Z
LAST-MODIFIED:20240520T212522Z
UID:5142-1708711200-1708723800@thefoodgeeks.net
SUMMARY:Hippin Hops Brewery & Oyster Bar
DESCRIPTION:
URL:https://thefoodgeeks.net/event/hippin-hops-brewery-oyster-bar/
LOCATION:Hippin Hop Brewery\, 1308 Glenwood Ave. SE\, Atlanta\, GA\, 30316\, United States
CATEGORIES:Food Geeks Fridays
ATTACH;FMTTYPE=image/png:https://thefoodgeeks.net/wp-content/uploads/2024/05/Hipping-Hop-Logo-for-Events.png
ORGANIZER;CN="The Food Geeks ATL":MAILTO:info@thefoodgeeks.net
END:VEVENT
BEGIN:VEVENT
DTSTART;TZID=America/New_York:20240126T183000
DTEND;TZID=America/New_York:20240126T213000
DTSTAMP:20260423T172225
CREATED:20240520T212413Z
LAST-MODIFIED:20240520T220314Z
UID:5153-1706293800-1706304600@thefoodgeeks.net
SUMMARY:Slush Restaurant & Bar
DESCRIPTION:
URL:https://thefoodgeeks.net/event/slush-restaurant-bar/
LOCATION:Slush Restaurant & Bar\, 327 Edgewood Avenue\, Atlanta\, GA\, 30313\, United States
CATEGORIES:Food Geeks Fridays
ATTACH;FMTTYPE=image/png:https://thefoodgeeks.net/wp-content/uploads/2024/05/slush4-for-Events.png
ORGANIZER;CN="The Food Geeks ATL":MAILTO:info@thefoodgeeks.net
END:VEVENT
END:VCALENDAR