BEGIN:VCALENDAR
VERSION:2.0
PRODID:-//The Food Geeks - ECPv6.15.20//NONSGML v1.0//EN
CALSCALE:GREGORIAN
METHOD:PUBLISH
X-WR-CALNAME:The Food Geeks
X-ORIGINAL-URL:https://thefoodgeeks.net
X-WR-CALDESC:Events for The Food Geeks
REFRESH-INTERVAL;VALUE=DURATION:PT1H
X-Robots-Tag:noindex
X-PUBLISHED-TTL:PT1H
BEGIN:VTIMEZONE
TZID:America/New_York
BEGIN:DAYLIGHT
TZOFFSETFROM:-0500
TZOFFSETTO:-0400
TZNAME:EDT
DTSTART:20240310T070000
END:DAYLIGHT
BEGIN:STANDARD
TZOFFSETFROM:-0400
TZOFFSETTO:-0500
TZNAME:EST
DTSTART:20241103T060000
END:STANDARD
BEGIN:DAYLIGHT
TZOFFSETFROM:-0500
TZOFFSETTO:-0400
TZNAME:EDT
DTSTART:20250309T070000
END:DAYLIGHT
BEGIN:STANDARD
TZOFFSETFROM:-0400
TZOFFSETTO:-0500
TZNAME:EST
DTSTART:20251102T060000
END:STANDARD
BEGIN:DAYLIGHT
TZOFFSETFROM:-0500
TZOFFSETTO:-0400
TZNAME:EDT
DTSTART:20260308T070000
END:DAYLIGHT
BEGIN:STANDARD
TZOFFSETFROM:-0400
TZOFFSETTO:-0500
TZNAME:EST
DTSTART:20261101T060000
END:STANDARD
END:VTIMEZONE
BEGIN:VEVENT
DTSTART;TZID=America/New_York:20250404T183000
DTEND;TZID=America/New_York:20250404T213000
DTSTAMP:20260424T094732
CREATED:20250321T150321Z
LAST-MODIFIED:20250404T173129Z
UID:6677-1743791400-1743802200@thefoodgeeks.net
SUMMARY:Food Geeks Friday at Gocha's Tapas Bar
DESCRIPTION:Food Geeks Friday at Gocha’s Tapas Bar \nJoin us for a fun-filled Food Geeks Friday at at Gocha’s Tapas Bar on April 4th at 6:30 PM! \nRegister Here
URL:https://thefoodgeeks.net/event/food-geeks-friday-at-gochas-tapas-bar/
LOCATION:Gocha’s Tapas Bar\, 5829 Campbellton Road SW\, Suite 116\, Atlanta\, GA\, 30331
CATEGORIES:Food Geeks Fridays
ATTACH;FMTTYPE=image/png:https://thefoodgeeks.net/wp-content/uploads/2025/03/Your-paragraph-text-Instagram-Post-45.png
ORGANIZER;CN="The Food Geeks ATL":MAILTO:info@thefoodgeeks.net
END:VEVENT
END:VCALENDAR